BEGIN:VCALENDAR
VERSION:2.0
X-WR-CALNAME: Kommende Termine
PRODID:GIGPRESS 2.0 WORDPRESS PLUGIN
CALSCALE:GREGORIAN
X-WR-TIMEZONE:Etc/GMT
METHOD:PUBLISH
BEGIN:VTIMEZONE
TZID:GMT
BEGIN:STANDARD
DTSTART:20071028T010000
TZOFFSETTO:+0000
TZOFFSETFROM:+0000
END:STANDARD
END:VTIMEZONE
BEGIN:VEVENT
SUMMARY:Eine Sommernacht \, Kulturhaus Lüdenscheid
DESCRIPTION:Kosten: 13-19 €. Abendkasse: +492351171299. 
LOCATION:Kulturhaus Lüdenscheid\, Freiherr-vom-Stein-Straße 9 58511 Lüdenscheid\, Lüdenscheid\, DE
UID:20260423T193000Z-589-die_irina@gmx.net
URL:https://www.irinaries.de
DTSTART;VALUE=DATE-TIME;TZID=GMT:20260423T193000Z
DTEND;VALUE=DATE-TIME;TZID=GMT:20260423T193000Z
DTSTAMP:20260421T020634Z
END:VEVENT
BEGIN:VEVENT
SUMMARY:Eine Sommernacht \, Plettenberg\, Aula des Albert-Schweitzer-Gymnasium
DESCRIPTION:Kosten: €. Anmerkungen: Tickets demnächst unter https://www.plettenberg-kultour.de/ticketshop-kultour 
LOCATION:Plettenberg\, Aula des Albert-Schweitzer-Gymnasium\, Plettenberg\, DE
UID:20260426T193000Z-590-die_irina@gmx.net
URL:https://www.irinaries.de
DTSTART;VALUE=DATE-TIME;TZID=GMT:20260426T193000Z
DTEND;VALUE=DATE-TIME;TZID=GMT:20260426T193000Z
DTSTAMP:20260421T020634Z
END:VEVENT
BEGIN:VEVENT
SUMMARY:Heute Abend: Lola Blau (Musical für eine Schauspielerin und Pianist) \, Festspiele Wetzlar
DESCRIPTION:Kosten: 32\,00 €. 
LOCATION:Festspiele Wetzlar\, Lottestraße 8-10\, 35578 Wetzlar\, Wetzlar\, DE
UID:20260710T203000Z-587-die_irina@gmx.net
URL:https://www.irinaries.de/kritiken-zu-heute-abend-lola-blau-im-bruchwerk-theater-siegen/
DTSTART;VALUE=DATE-TIME;TZID=GMT:20260710T203000Z
DTEND;VALUE=DATE-TIME;TZID=GMT:20260710T203000Z
DTSTAMP:20260421T020634Z
END:VEVENT
BEGIN:VEVENT
SUMMARY:Vorzimmergeschichten \, Salon Theater
DESCRIPTION:Anmerkungen: Ersatztermin! 
LOCATION:Salon Theater\, Hambach\, Taunusstein\, DE
UID:20260815T193000Z-585-die_irina@gmx.net
URL:https://www.irinaries.de/vorzimmergeschichten-2/
DTSTART;VALUE=DATE-TIME;TZID=GMT:20260815T193000Z
DTEND;VALUE=DATE-TIME;TZID=GMT:20260815T193000Z
DTSTAMP:20260421T020634Z
END:VEVENT
BEGIN:VEVENT
SUMMARY:Vorzimmergeschichten \, Salon Theater
DESCRIPTION:Anmerkungen: Ersatztermin! 
LOCATION:Salon Theater\, Hambach\, Taunusstein\, DE
UID:20260816T160000Z-586-die_irina@gmx.net
URL:https://www.irinaries.de/vorzimmergeschichten-2/
DTSTART;VALUE=DATE-TIME;TZID=GMT:20260816T160000Z
DTEND;VALUE=DATE-TIME;TZID=GMT:20260816T160000Z
DTSTAMP:20260421T020634Z
END:VEVENT
BEGIN:VEVENT
SUMMARY:Heute Abend: Lola Blau (Musical für eine Schauspielerin und Pianist) \, Salon Theater
DESCRIPTION:
LOCATION:Salon Theater\, Hambach\, Taunusstein\, DE
UID:20261031T193000Z-592-die_irina@gmx.net
URL:https://www.irinaries.de
DTSTART;VALUE=DATE-TIME;TZID=GMT:20261031T193000Z
DTEND;VALUE=DATE-TIME;TZID=GMT:20261031T193000Z
DTSTAMP:20260421T020634Z
END:VEVENT
BEGIN:VEVENT
SUMMARY:Heute Abend: Lola Blau (Musical für eine Schauspielerin und Pianist) \, Salon Theater
DESCRIPTION:
LOCATION:Salon Theater\, Hambach\, Taunusstein\, DE
UID:20261101T160000Z-593-die_irina@gmx.net
URL:https://www.irinaries.de
DTSTART;VALUE=DATE-TIME;TZID=GMT:20261101T160000Z
DTEND;VALUE=DATE-TIME;TZID=GMT:20261101T160000Z
DTSTAMP:20260421T020634Z
END:VEVENT
END:VCALENDAR